Package: mygene Version: 1.28.0 Command: rm -rf mygene.buildbin-libdir && mkdir mygene.buildbin-libdir && C:\Users\biocbuild\bbs-3.13-bioc\R\bin\R.exe CMD INSTALL --merge-multiarch --build --library=mygene.buildbin-libdir mygene_1.28.0.tar.gz StartedAt: 2021-10-15 10:38:47 -0400 (Fri, 15 Oct 2021) EndedAt: 2021-10-15 10:40:03 -0400 (Fri, 15 Oct 2021) EllapsedTime: 76.0 seconds RetCode: 0 Status: OK PackageFile: mygene_1.28.0.zip PackageFileSize: 233 KiB