Package: musicatk Version: 1.2.0 Command: C:\Users\biocbuild\bbs-3.13-bioc\R\bin\R.exe CMD check --force-multiarch --install=check:musicatk.install-out.txt --library=C:\Users\biocbuild\bbs-3.13-bioc\R\library --no-vignettes --timings musicatk_1.2.0.tar.gz StartedAt: 2021-10-15 02:31:28 -0400 (Fri, 15 Oct 2021) EndedAt: 2021-10-15 02:41:35 -0400 (Fri, 15 Oct 2021) EllapsedTime: 607.1 seconds RetCode: 0 Status: OK CheckDir: musicatk.Rcheck Warnings: 0