Package: musicatk Version: 1.2.0 Command: chmod a+r musicatk -R && C:\Users\biocbuild\bbs-3.13-bioc\R\bin\R.exe CMD build --keep-empty-dirs --no-resave-data musicatk StartedAt: 2021-10-14 16:02:52 -0400 (Thu, 14 Oct 2021) EndedAt: 2021-10-14 16:05:52 -0400 (Thu, 14 Oct 2021) EllapsedTime: 180.3 seconds RetCode: 0 Status: OK PackageFile: musicatk_1.2.0.tar.gz PackageFileSize: 2.085 MiB