Package: musicatk Version: 1.2.0 Command: rm -rf musicatk.buildbin-libdir && mkdir musicatk.buildbin-libdir && /Users/biocbuild/BBS/utils/build-universal.sh musicatk_1.2.0.tar.gz /Library/Frameworks/R.framework/Versions/Current/Resources/bin/R musicatk.buildbin-libdir StartedAt: 2021-10-15 03:15:15 -0400 (Fri, 15 Oct 2021) EndedAt: 2021-10-15 03:16:19 -0400 (Fri, 15 Oct 2021) EllapsedTime: 64.3 seconds RetCode: 0 Status: OK PackageFile: musicatk_1.2.0.tgz PackageFileSize: 3.591 MiB