Package: muscle Version: 3.34.0 Command: rm -rf muscle.buildbin-libdir && mkdir muscle.buildbin-libdir && C:\Users\biocbuild\bbs-3.13-bioc\R\bin\R.exe CMD INSTALL --merge-multiarch --build --library=muscle.buildbin-libdir muscle_3.34.0.tar.gz StartedAt: 2021-10-15 10:38:05 -0400 (Fri, 15 Oct 2021) EndedAt: 2021-10-15 10:40:36 -0400 (Fri, 15 Oct 2021) EllapsedTime: 151.6 seconds RetCode: 0 Status: OK PackageFile: muscle_3.34.0.zip PackageFileSize: 688.8 KiB