Package: muscle Version: 3.34.0 Command: /home/biocbuild/bbs-3.13-bioc/R/bin/R CMD build --keep-empty-dirs --no-resave-data muscle StartedAt: 2021-10-14 07:49:37 -0400 (Thu, 14 Oct 2021) EndedAt: 2021-10-14 07:50:22 -0400 (Thu, 14 Oct 2021) EllapsedTime: 44.7 seconds RetCode: 0 Status: OK PackageFile: muscle_3.34.0.tar.gz PackageFileSize: 362.8 KiB