Package: multtest Version: 2.48.0 Command: rm -rf multtest.buildbin-libdir && mkdir multtest.buildbin-libdir && /Users/biocbuild/BBS/utils/build-universal.sh multtest_2.48.0.tar.gz /Library/Frameworks/R.framework/Versions/Current/Resources/bin/R multtest.buildbin-libdir StartedAt: 2021-10-15 03:14:48 -0400 (Fri, 15 Oct 2021) EndedAt: 2021-10-15 03:15:52 -0400 (Fri, 15 Oct 2021) EllapsedTime: 64.2 seconds RetCode: 0 Status: OK PackageFile: multtest_2.48.0.tgz PackageFileSize: 835.6 KiB