Package: multiscan Version: 1.52.0 Command: rm -rf multiscan.buildbin-libdir && mkdir multiscan.buildbin-libdir && /Users/biocbuild/BBS/utils/build-universal.sh multiscan_1.52.0.tar.gz /Library/Frameworks/R.framework/Versions/Current/Resources/bin/R multiscan.buildbin-libdir StartedAt: 2021-10-15 03:14:37 -0400 (Fri, 15 Oct 2021) EndedAt: 2021-10-15 03:15:41 -0400 (Fri, 15 Oct 2021) EllapsedTime: 64.3 seconds RetCode: 0 Status: OK PackageFile: multiscan_1.52.0.tgz PackageFileSize: 621.2 KiB