git_url: https://git.bioconductor.org/packages/multiscan git_branch: RELEASE_3_13 git_last_commit: c76196c git_last_commit_date: 2021-05-19 11:41:14 -0400 (Wed, 19 May 2021) Package: multiscan Version: 1.52.0 Maintainer: Mizanur Khondoker MaintainerEmail: mizanur.khondoker at ed.ac.uk