Package: multiSight Version: 1.0.0 Command: chmod a+r multiSight -R && C:\Users\biocbuild\bbs-3.13-bioc\R\bin\R.exe CMD build --keep-empty-dirs --no-resave-data multiSight StartedAt: 2021-10-14 16:01:53 -0400 (Thu, 14 Oct 2021) EndedAt: 2021-10-14 16:04:15 -0400 (Thu, 14 Oct 2021) EllapsedTime: 142.3 seconds RetCode: 0 Status: OK PackageFile: multiSight_1.0.0.tar.gz PackageFileSize: 2.39 MiB