Package: multiOmicsViz Version: 1.16.0 Command: C:\cygwin\bin\curl.exe -O http://155.52.207.165/BBS/3.13/bioc/src/contrib/multiOmicsViz_1.16.0.tar.gz && rm -rf multiOmicsViz.buildbin-libdir && mkdir multiOmicsViz.buildbin-libdir && C:\Users\biocbuild\bbs-3.13-bioc\R\bin\R.exe CMD INSTALL --merge-multiarch --build --library=multiOmicsViz.buildbin-libdir multiOmicsViz_1.16.0.tar.gz && C:\Users\biocbuild\bbs-3.13-bioc\R\bin\R.exe CMD INSTALL multiOmicsViz_1.16.0.zip && rm multiOmicsViz_1.16.0.tar.gz multiOmicsViz_1.16.0.zip StartedAt: 2021-10-14 08:46:08 -0400 (Thu, 14 Oct 2021) EndedAt: 2021-10-14 08:46:58 -0400 (Thu, 14 Oct 2021) EllapsedTime: 49.9 seconds RetCode: 0 Status: OK