Package: multiOmicsViz Version: 1.16.0 Command: /home/biocbuild/bbs-3.13-bioc/R/bin/R CMD INSTALL multiOmicsViz StartedAt: 2021-10-14 06:12:10 -0400 (Thu, 14 Oct 2021) EndedAt: 2021-10-14 06:12:26 -0400 (Thu, 14 Oct 2021) EllapsedTime: 15.5 seconds RetCode: 0 Status: OK