Package: multiOmicsViz Version: 1.16.0 Command: /Library/Frameworks/R.framework/Versions/Current/Resources/bin/R CMD check --install=check:multiOmicsViz.install-out.txt --library=/Library/Frameworks/R.framework/Versions/Current/Resources/library --no-vignettes --timings multiOmicsViz_1.16.0.tar.gz StartedAt: 2021-10-14 21:33:54 -0400 (Thu, 14 Oct 2021) EndedAt: 2021-10-14 21:37:01 -0400 (Thu, 14 Oct 2021) EllapsedTime: 187.0 seconds RetCode: 0 Status: OK CheckDir: multiOmicsViz.Rcheck Warnings: 0