Package: multiOmicsViz Version: 1.16.0 Command: /Library/Frameworks/R.framework/Versions/Current/Resources/bin/R CMD build --keep-empty-dirs --no-resave-data multiOmicsViz StartedAt: 2021-10-14 13:27:50 -0400 (Thu, 14 Oct 2021) EndedAt: 2021-10-14 13:28:43 -0400 (Thu, 14 Oct 2021) EllapsedTime: 53.0 seconds RetCode: 0 Status: OK PackageFile: multiOmicsViz_1.16.0.tar.gz PackageFileSize: 2.887 MiB