Package: multiGSEA Version: 1.2.0 Command: /home/biocbuild/bbs-3.13-bioc/R/bin/R CMD check --install=check:multiGSEA.install-out.txt --library=/home/biocbuild/bbs-3.13-bioc/R/library --no-vignettes --timings multiGSEA_1.2.0.tar.gz StartedAt: 2021-10-14 10:44:33 -0400 (Thu, 14 Oct 2021) EndedAt: 2021-10-14 10:48:22 -0400 (Thu, 14 Oct 2021) EllapsedTime: 228.9 seconds RetCode: 0 Status: OK CheckDir: multiGSEA.Rcheck Warnings: 0