Package: multiGSEA Version: 1.2.0 Command: /Library/Frameworks/R.framework/Versions/Current/Resources/bin/R CMD INSTALL multiGSEA StartedAt: 2021-10-14 09:19:33 -0400 (Thu, 14 Oct 2021) EndedAt: 2021-10-14 09:20:30 -0400 (Thu, 14 Oct 2021) EllapsedTime: 57.1 seconds RetCode: 0 Status: OK