Package: multiGSEA Version: 1.2.0 Command: rm -rf multiGSEA.buildbin-libdir && mkdir multiGSEA.buildbin-libdir && /Users/biocbuild/BBS/utils/build-universal.sh multiGSEA_1.2.0.tar.gz /Library/Frameworks/R.framework/Versions/Current/Resources/bin/R multiGSEA.buildbin-libdir StartedAt: 2021-10-15 03:14:10 -0400 (Fri, 15 Oct 2021) EndedAt: 2021-10-15 03:15:15 -0400 (Fri, 15 Oct 2021) EllapsedTime: 64.9 seconds RetCode: 0 Status: OK PackageFile: multiGSEA_1.2.0.tgz PackageFileSize: 960.1 KiB