Package: msmsTests Version: 1.30.0 Command: /home/biocbuild/bbs-3.13-bioc/R/bin/R CMD INSTALL msmsTests StartedAt: 2021-10-14 06:19:31 -0400 (Thu, 14 Oct 2021) EndedAt: 2021-10-14 06:19:46 -0400 (Thu, 14 Oct 2021) EllapsedTime: 15.5 seconds RetCode: 0 Status: OK