Package: msmsTests Version: 1.30.0 Command: /home/biocbuild/bbs-3.13-bioc/R/bin/R CMD check --install=check:msmsTests.install-out.txt --library=/home/biocbuild/bbs-3.13-bioc/R/library --no-vignettes --timings msmsTests_1.30.0.tar.gz StartedAt: 2021-10-14 10:43:23 -0400 (Thu, 14 Oct 2021) EndedAt: 2021-10-14 10:45:21 -0400 (Thu, 14 Oct 2021) EllapsedTime: 117.8 seconds RetCode: 0 Status: OK CheckDir: msmsTests.Rcheck Warnings: 0