Package: msmsTests Version: 1.30.0 Command: /Library/Frameworks/R.framework/Versions/Current/Resources/bin/R CMD INSTALL msmsTests StartedAt: 2021-10-14 08:58:35 -0400 (Thu, 14 Oct 2021) EndedAt: 2021-10-14 08:59:30 -0400 (Thu, 14 Oct 2021) EllapsedTime: 55.3 seconds RetCode: 0 Status: OK