Package: msgbsR Version: 1.16.0 Command: /home/biocbuild/bbs-3.13-bioc/R/bin/R CMD build --keep-empty-dirs --no-resave-data msgbsR StartedAt: 2021-10-14 07:48:16 -0400 (Thu, 14 Oct 2021) EndedAt: 2021-10-14 07:49:45 -0400 (Thu, 14 Oct 2021) EllapsedTime: 89.3 seconds RetCode: 0 Status: OK PackageFile: msgbsR_1.16.0.tar.gz PackageFileSize: 15.53 MiB