Package: msImpute Version: 1.2.0 Command: /home/biocbuild/bbs-3.13-bioc/R/bin/R CMD build --keep-empty-dirs --no-resave-data msImpute StartedAt: 2021-10-14 07:48:18 -0400 (Thu, 14 Oct 2021) EndedAt: 2021-10-14 07:49:15 -0400 (Thu, 14 Oct 2021) EllapsedTime: 56.3 seconds RetCode: 0 Status: OK PackageFile: msImpute_1.2.0.tar.gz PackageFileSize: 1.704 MiB