Package: msImpute Version: 1.2.0 Command: /Library/Frameworks/R.framework/Versions/Current/Resources/bin/R CMD check --install=check:msImpute.install-out.txt --library=/Library/Frameworks/R.framework/Versions/Current/Resources/library --no-vignettes --timings msImpute_1.2.0.tar.gz StartedAt: 2021-10-14 21:27:13 -0400 (Thu, 14 Oct 2021) EndedAt: 2021-10-14 21:30:49 -0400 (Thu, 14 Oct 2021) EllapsedTime: 216.3 seconds RetCode: 0 Status: OK CheckDir: msImpute.Rcheck Warnings: 0