Package: mpra Version: 1.14.0 Command: C:\cygwin\bin\curl.exe -O http://155.52.207.165/BBS/3.13/bioc/src/contrib/mpra_1.14.0.tar.gz && rm -rf mpra.buildbin-libdir && mkdir mpra.buildbin-libdir && C:\Users\biocbuild\bbs-3.13-bioc\R\bin\R.exe CMD INSTALL --merge-multiarch --build --library=mpra.buildbin-libdir mpra_1.14.0.tar.gz && C:\Users\biocbuild\bbs-3.13-bioc\R\bin\R.exe CMD INSTALL mpra_1.14.0.zip && rm mpra_1.14.0.tar.gz mpra_1.14.0.zip StartedAt: 2021-10-14 09:04:06 -0400 (Thu, 14 Oct 2021) EndedAt: 2021-10-14 09:05:08 -0400 (Thu, 14 Oct 2021) EllapsedTime: 61.3 seconds RetCode: 0 Status: OK