Package: mpra Version: 1.14.0 Command: /home/biocbuild/bbs-3.13-bioc/R/bin/R CMD build --keep-empty-dirs --no-resave-data mpra StartedAt: 2021-10-14 07:47:37 -0400 (Thu, 14 Oct 2021) EndedAt: 2021-10-14 07:48:25 -0400 (Thu, 14 Oct 2021) EllapsedTime: 47.9 seconds RetCode: 0 Status: OK PackageFile: mpra_1.14.0.tar.gz PackageFileSize: 3.11 MiB