Package: motifcounter Version: 1.16.0 Command: /home/biocbuild/bbs-3.13-bioc/R/bin/R CMD build --keep-empty-dirs --no-resave-data motifcounter StartedAt: 2021-10-14 07:47:15 -0400 (Thu, 14 Oct 2021) EndedAt: 2021-10-14 07:48:07 -0400 (Thu, 14 Oct 2021) EllapsedTime: 51.9 seconds RetCode: 0 Status: OK PackageFile: motifcounter_1.16.0.tar.gz PackageFileSize: 544.3 KiB