git_url: https://git.bioconductor.org/packages/motifcounter git_branch: RELEASE_3_13 git_last_commit: 2e4bd42 git_last_commit_date: 2021-05-19 12:26:39 -0400 (Wed, 19 May 2021) Package: motifcounter Version: 1.16.0 Maintainer: Wolfgang Kopp MaintainerEmail: wolfgang.kopp at mdc-berlin.de