git_url: https://git.bioconductor.org/packages/monocle git_branch: RELEASE_3_13 git_last_commit: dd8f8f2 git_last_commit_date: 2021-05-19 12:05:11 -0400 (Wed, 19 May 2021) Package: monocle Version: 2.20.0 Maintainer: Cole Trapnell MaintainerEmail: coletrap at uw.edu