Package: mistyR Version: 1.0.3 Command: /home/biocbuild/bbs-3.13-bioc/R/bin/R CMD check --install=check:mistyR.install-out.txt --library=/home/biocbuild/bbs-3.13-bioc/R/library --no-vignettes --timings mistyR_1.0.3.tar.gz StartedAt: 2021-10-14 10:38:36 -0400 (Thu, 14 Oct 2021) EndedAt: 2021-10-14 10:44:43 -0400 (Thu, 14 Oct 2021) EllapsedTime: 367.5 seconds RetCode: 0 Status: OK CheckDir: mistyR.Rcheck Warnings: 0