Package: mistyR Version: 1.0.3 Command: /Library/Frameworks/R.framework/Versions/Current/Resources/bin/R CMD check --install=check:mistyR.install-out.txt --library=/Library/Frameworks/R.framework/Versions/Current/Resources/library --no-vignettes --timings mistyR_1.0.3.tar.gz StartedAt: 2021-10-14 21:15:48 -0400 (Thu, 14 Oct 2021) EndedAt: 2021-10-14 21:25:22 -0400 (Thu, 14 Oct 2021) EllapsedTime: 573.5 seconds RetCode: 0 Status: OK CheckDir: mistyR.Rcheck Warnings: 0