Package: mistyR Version: 1.0.3 Command: /Library/Frameworks/R.framework/Versions/Current/Resources/bin/R CMD build --keep-empty-dirs --no-resave-data mistyR StartedAt: 2021-10-14 13:18:14 -0400 (Thu, 14 Oct 2021) EndedAt: 2021-10-14 13:23:49 -0400 (Thu, 14 Oct 2021) EllapsedTime: 335.3 seconds RetCode: 0 Status: OK PackageFile: mistyR_1.0.3.tar.gz PackageFileSize: 3.354 MiB