Package: mistyR Version: 1.0.3 Command: rm -rf mistyR.buildbin-libdir && mkdir mistyR.buildbin-libdir && /Users/biocbuild/BBS/utils/build-universal.sh mistyR_1.0.3.tar.gz /Library/Frameworks/R.framework/Versions/Current/Resources/bin/R mistyR.buildbin-libdir StartedAt: 2021-10-15 03:08:54 -0400 (Fri, 15 Oct 2021) EndedAt: 2021-10-15 03:09:58 -0400 (Fri, 15 Oct 2021) EllapsedTime: 64.2 seconds RetCode: 0 Status: OK PackageFile: mistyR_1.0.3.tgz PackageFileSize: 3.406 MiB