Package: missMethyl Version: 1.26.1 Command: /home/biocbuild/bbs-3.13-bioc/R/bin/R CMD build --keep-empty-dirs --no-resave-data missMethyl StartedAt: 2021-10-14 07:45:59 -0400 (Thu, 14 Oct 2021) EndedAt: 2021-10-14 08:01:31 -0400 (Thu, 14 Oct 2021) EllapsedTime: 931.7 seconds RetCode: 0 Status: OK PackageFile: missMethyl_1.26.1.tar.gz PackageFileSize: 1.28 MiB