Package: mirIntegrator Version: 1.22.0 Command: C:\Users\biocbuild\bbs-3.13-bioc\R\bin\R.exe CMD check --force-multiarch --install=check:mirIntegrator.install-out.txt --library=C:\Users\biocbuild\bbs-3.13-bioc\R\library --no-vignettes --timings mirIntegrator_1.22.0.tar.gz StartedAt: 2021-10-15 02:01:56 -0400 (Fri, 15 Oct 2021) EndedAt: 2021-10-15 02:05:28 -0400 (Fri, 15 Oct 2021) EllapsedTime: 212.1 seconds RetCode: 0 Status: OK CheckDir: mirIntegrator.Rcheck Warnings: 0