Package: mirIntegrator Version: 1.22.0 Command: chmod a+r mirIntegrator -R && C:\Users\biocbuild\bbs-3.13-bioc\R\bin\R.exe CMD build --keep-empty-dirs --no-resave-data mirIntegrator StartedAt: 2021-10-14 15:44:49 -0400 (Thu, 14 Oct 2021) EndedAt: 2021-10-14 15:46:10 -0400 (Thu, 14 Oct 2021) EllapsedTime: 80.5 seconds RetCode: 0 Status: OK PackageFile: mirIntegrator_1.22.0.tar.gz PackageFileSize: 1.72 MiB