Package: miloR Version: 1.0.0 Command: /home/biocbuild/bbs-3.13-bioc/R/bin/R CMD check --install=check:miloR.install-out.txt --library=/home/biocbuild/bbs-3.13-bioc/R/library --no-vignettes --timings miloR_1.0.0.tar.gz StartedAt: 2021-10-14 10:36:09 -0400 (Thu, 14 Oct 2021) EndedAt: 2021-10-14 10:44:47 -0400 (Thu, 14 Oct 2021) EllapsedTime: 518.2 seconds RetCode: 0 Status: OK CheckDir: miloR.Rcheck Warnings: 0