Package: miloR Version: 1.0.0 Command: rm -rf miloR.buildbin-libdir && mkdir miloR.buildbin-libdir && /Users/biocbuild/BBS/utils/build-universal.sh miloR_1.0.0.tar.gz /Library/Frameworks/R.framework/Versions/Current/Resources/bin/R miloR.buildbin-libdir StartedAt: 2021-10-15 03:06:39 -0400 (Fri, 15 Oct 2021) EndedAt: 2021-10-15 03:07:49 -0400 (Fri, 15 Oct 2021) EllapsedTime: 69.9 seconds RetCode: 0 Status: OK PackageFile: miloR_1.0.0.tgz PackageFileSize: 3.75 MiB