Package: midasHLA Version: 1.0.0 Command: C:\Users\biocbuild\bbs-3.13-bioc\R\bin\R.exe CMD check --force-multiarch --install=check:midasHLA.install-out.txt --library=C:\Users\biocbuild\bbs-3.13-bioc\R\library --no-vignettes --timings midasHLA_1.0.0.tar.gz StartedAt: 2021-10-15 01:55:22 -0400 (Fri, 15 Oct 2021) EndedAt: 2021-10-15 02:05:12 -0400 (Fri, 15 Oct 2021) EllapsedTime: 589.6 seconds RetCode: 0 Status: OK CheckDir: midasHLA.Rcheck Warnings: 0