Package: midasHLA Version: 1.0.0 Command: rm -rf midasHLA.buildbin-libdir && mkdir midasHLA.buildbin-libdir && /Users/biocbuild/BBS/utils/build-universal.sh midasHLA_1.0.0.tar.gz /Library/Frameworks/R.framework/Versions/Current/Resources/bin/R midasHLA.buildbin-libdir StartedAt: 2021-10-15 03:06:29 -0400 (Fri, 15 Oct 2021) EndedAt: 2021-10-15 03:07:38 -0400 (Fri, 15 Oct 2021) EllapsedTime: 69.0 seconds RetCode: 0 Status: OK PackageFile: midasHLA_1.0.0.tgz PackageFileSize: 2.66 MiB