Package: microbiome Version: 1.14.0 Command: /Library/Frameworks/R.framework/Versions/Current/Resources/bin/R CMD check --install=check:microbiome.install-out.txt --library=/Library/Frameworks/R.framework/Versions/Current/Resources/library --no-vignettes --timings microbiome_1.14.0.tar.gz StartedAt: 2021-10-14 21:06:30 -0400 (Thu, 14 Oct 2021) EndedAt: 2021-10-14 21:10:47 -0400 (Thu, 14 Oct 2021) EllapsedTime: 256.4 seconds RetCode: 0 Status: OK CheckDir: microbiome.Rcheck Warnings: 0