Package: miaViz Version: 1.0.1 Command: C:\cygwin\bin\curl.exe -O http://155.52.207.165/BBS/3.13/bioc/src/contrib/miaViz_1.0.1.tar.gz && rm -rf miaViz.buildbin-libdir && mkdir miaViz.buildbin-libdir && C:\Users\biocbuild\bbs-3.13-bioc\R\bin\R.exe CMD INSTALL --merge-multiarch --build --library=miaViz.buildbin-libdir miaViz_1.0.1.tar.gz && C:\Users\biocbuild\bbs-3.13-bioc\R\bin\R.exe CMD INSTALL miaViz_1.0.1.zip && rm miaViz_1.0.1.tar.gz miaViz_1.0.1.zip StartedAt: 2021-10-14 09:38:14 -0400 (Thu, 14 Oct 2021) EndedAt: 2021-10-14 09:41:15 -0400 (Thu, 14 Oct 2021) EllapsedTime: 180.8 seconds RetCode: 0 Status: OK