Package: miaViz Version: 1.0.1 Command: /Library/Frameworks/R.framework/Versions/Current/Resources/bin/R CMD check --install=check:miaViz.install-out.txt --library=/Library/Frameworks/R.framework/Versions/Current/Resources/library --no-vignettes --timings miaViz_1.0.1.tar.gz StartedAt: 2021-10-14 21:05:29 -0400 (Thu, 14 Oct 2021) EndedAt: 2021-10-14 21:16:32 -0400 (Thu, 14 Oct 2021) EllapsedTime: 663.5 seconds RetCode: 0 Status: OK CheckDir: miaViz.Rcheck Warnings: 0