Package: miaViz Version: 1.0.1 Command: /Library/Frameworks/R.framework/Versions/Current/Resources/bin/R CMD build --keep-empty-dirs --no-resave-data miaViz StartedAt: 2021-10-14 13:14:12 -0400 (Thu, 14 Oct 2021) EndedAt: 2021-10-14 13:16:45 -0400 (Thu, 14 Oct 2021) EllapsedTime: 152.5 seconds RetCode: 0 Status: OK PackageFile: miaViz_1.0.1.tar.gz PackageFileSize: 2.637 MiB