Package: miaViz Version: 1.0.1 Command: rm -rf miaViz.buildbin-libdir && mkdir miaViz.buildbin-libdir && /Users/biocbuild/BBS/utils/build-universal.sh miaViz_1.0.1.tar.gz /Library/Frameworks/R.framework/Versions/Current/Resources/bin/R miaViz.buildbin-libdir StartedAt: 2021-10-15 03:05:51 -0400 (Fri, 15 Oct 2021) EndedAt: 2021-10-15 03:07:00 -0400 (Fri, 15 Oct 2021) EllapsedTime: 69.3 seconds RetCode: 0 Status: OK PackageFile: miaViz_1.0.1.tgz PackageFileSize: 2.816 MiB