Package: mia Version: 1.0.8 Command: /home/biocbuild/bbs-3.13-bioc/R/bin/R CMD build --keep-empty-dirs --no-resave-data mia StartedAt: 2021-10-14 07:44:15 -0400 (Thu, 14 Oct 2021) EndedAt: 2021-10-14 07:45:46 -0400 (Thu, 14 Oct 2021) EllapsedTime: 90.5 seconds RetCode: 0 Status: OK PackageFile: mia_1.0.8.tar.gz PackageFileSize: 1.777 MiB