Package: mia Version: 1.0.8 Command: /Library/Frameworks/R.framework/Versions/Current/Resources/bin/R CMD INSTALL mia StartedAt: 2021-10-14 09:38:04 -0400 (Thu, 14 Oct 2021) EndedAt: 2021-10-14 09:38:51 -0400 (Thu, 14 Oct 2021) EllapsedTime: 47.2 seconds RetCode: 0 Status: OK