Package: mia Version: 1.0.8 Command: /Library/Frameworks/R.framework/Versions/Current/Resources/bin/R CMD check --install=check:mia.install-out.txt --library=/Library/Frameworks/R.framework/Versions/Current/Resources/library --no-vignettes --timings mia_1.0.8.tar.gz StartedAt: 2021-10-14 21:05:19 -0400 (Thu, 14 Oct 2021) EndedAt: 2021-10-14 21:19:25 -0400 (Thu, 14 Oct 2021) EllapsedTime: 845.6 seconds RetCode: 0 Status: OK CheckDir: mia.Rcheck Warnings: 0