Package: mia Version: 1.0.8 Command: /Library/Frameworks/R.framework/Versions/Current/Resources/bin/R CMD build --keep-empty-dirs --no-resave-data mia StartedAt: 2021-10-14 13:14:06 -0400 (Thu, 14 Oct 2021) EndedAt: 2021-10-14 13:16:00 -0400 (Thu, 14 Oct 2021) EllapsedTime: 113.9 seconds RetCode: 0 Status: OK PackageFile: mia_1.0.8.tar.gz PackageFileSize: 1.777 MiB