Package: mia Version: 1.0.8 Command: rm -rf mia.buildbin-libdir && mkdir mia.buildbin-libdir && /Users/biocbuild/BBS/utils/build-universal.sh mia_1.0.8.tar.gz /Library/Frameworks/R.framework/Versions/Current/Resources/bin/R mia.buildbin-libdir StartedAt: 2021-10-15 03:05:46 -0400 (Fri, 15 Oct 2021) EndedAt: 2021-10-15 03:06:55 -0400 (Fri, 15 Oct 2021) EllapsedTime: 69.4 seconds RetCode: 0 Status: OK PackageFile: mia_1.0.8.tgz PackageFileSize: 2.082 MiB