Package: miRcomp Version: 1.22.0 Command: /Library/Frameworks/R.framework/Versions/Current/Resources/bin/R CMD INSTALL miRcomp StartedAt: 2021-10-14 08:26:47 -0400 (Thu, 14 Oct 2021) EndedAt: 2021-10-14 08:27:34 -0400 (Thu, 14 Oct 2021) EllapsedTime: 47.1 seconds RetCode: 0 Status: OK